Workbook
Name ACTIVIDAD: #REF!
Name ACTIVOr1: 'Resumen Balance'!$E$8:$G$17
Name analisisbalances: #REF!
Name añobalance: 'Resumen Balance'!$I$6:$M$6
Name arribaa2: '20Ratios'!$A$3:$A$59
Name ARRIBAAR: Análisis!$A$3:$A$76
Name arribaDATOS: Datos!$A$6:$A$47
Name arribaR1: 'Resumen Balance'!$A$3:$A$122
Name arribaR2: 'Resumen Ratios'!$A$3:$A$134
Name balance: #REF!
Name balances: #REF!
Name circulante: #REF!
Name datosbalances: #REF!
Name FLUJOSCAJA: #REF!
Name fondomaniobra: #REF!
Name GARANTIA: #REF!
Name info1: #REF!
Name info1a: #REF!
Name iniciohoja: #REF!
Name inmovilizado: #REF!
Name liquidez: #REF!
Name nota: #REF!
Name objetivosab: #REF!
Name otrosdatos: #REF!
Name pasivocorriente: #REF!
Name pasivonocorriente: #REF!
Name PASIVONONCURRENT: #REF!
Name patrimonion: #REF!
Name periodo: [1]SB!$B$8:$B$25
Name productividad: #REF!
Name PUBLICIDAD1: #REF!
Name RENTABILIDAD: #REF!
Name rotations: #REF!
Name solvencia: #REF!
Name versionlibre: #REF!

Sheet INICIO 
A1: Análisis Automatizado situación financiera
A2: Análisis Automatizado de la situación financiera
A3: Denominación : | C3: Santroni Parson | F3: Año más reciente : | H3: 2023
A4: Notas
A7: Información
A9: Este libro tiene como objetivo facilitar al máximo el análisis de los balances de una empresa
A10: Sus contenidos y explicaciones han sido elaborados desde una perspectiva práctica, usando
A11: un lenguaje no técnico, con el objetivo de lograr una mayor comprensión de los conceptos por parte de los
A12: usuarios cuya finalidad es usarlos en la vida cotidiana de su empresa.
A21: Recomendaciones
B23: Recomendaciones para el uso del libro:
B24: ● Pon tus datos en la hoja DATOS, tiene tres secciones numeradas del 1 al 3 (scroll abajo).
B25: ● Una vez hecho lo anterior y con los datos completos, informes, ratios y gráficos se autogenerarán en
B26: las hojas siguientes.
B28: Ten en cuenta:
B29: ● Puedes analizar desde un solo balance hasta un máximo de 5, no es preciso incluir datos en todas
B30: las columnas. Usa sólo las que precises.
B31: ● No es obligatorio incluir todos los datos (aunque siempre es lo mejor), la hoja calculará los ratios que
B32: pueda en función de los datos incluidos.
A36: © versión original en español: e.ditor consulting s.l.
A39: Excel© es una marca registrada de Microsoft Corporation
A54: Objetivos
A55: OBJETIVOS del ANÁLISIS de los estados financieros (o de los balances)
B56: El análisis de balances tiene como objetivo evaluar los siguientes aspectos y responder a las preguntas:
B58: 1- La situación de LIQUIDEZ (solvencia): ¿La empresa podrá hacer frente a los pagos comprometidos?
B59: Sobretodo a medio y corto plazo.
B60: 2- La situación de ENDEUDAMIENTO: ¿La deuda de la empresa es correcta, tanto cuantitativamente como
B61: cualitativamente?
B62: 3- La CAPITALIZACIÓN: ¿La empresa dispone de suficientes capitales propios que le permiten cierto grado de
B63: independencia financiera?
B64: 4- La situación de GARANTÍA: ¿La empresa tiene suficientes garantías patrimoniales frente a terceros?
B66: 5- La GESTIÓN de los activos: ¿Es eficiente la gestión de los activos de la empresa?
B68: 6- La situación de EQUILIBRIO FINANCIERO: ¿El balance está suficientemente equilibrado? El nivel de
B69: adecuación entre las tendencias a la liquidez de los activos y a la exigibilidad de los pasivos ¿Es correcto?
B71: 7- La CAPACIDAD de generar riqueza: ¿La rentabilidad y la capacidad de autofinanciación es suficiente?
... B85: para visualizar hacia dónde va la empresa.
A87: Es bueno recordar siempre que si la certeza existe es únicamente sobre la realidad (datos históricos) y que los
A88: balances previsionales sólo son "fiables" si se refieren a un futuro cercano al último balance histórico. Los
A89: balances previsionales a plazos largos sólo sirven para señalar una tendencia.
A92: Descripcion
...

Sheet Datos
C3: DATOS DEL BALANCE
G4: =IF(H4="","","El Balance") -> El Balance | H4: =IF(H6=0,"",IF(H24=H63,"CUADRA","NO CUADRA")) -> NO CUADRA | I4: =IF(I6=0,"",IF(I24=I63,"CUADRA","NO CUADRA")) -> NO CUADRA | J4: =IF(J6=0,"",IF(J24=J63,"CUADRA","NO CUADRA")) | K4: =IF(K6=0,"",IF(K24=K63,"CUADRA","NO CUADRA")) | L4: =IF(L6=0,"",IF(L24=L63,"CUADRA","NO CUADRA"))
C5: 1 | D5: ACTIVO | H5: ='INICIO '!H3 -> 2023 | I5: =H5-1 -> 2022 | J5: =I5-1 -> 2021 | K5: =J5-1 -> 2020 | L5: =K5-1 -> 2019
D6: A- ACTIVO NO CORRIENTE / ACTIVO FIJO | H6: =SUM(H7:H12) -> 42283293 | I6: =SUM(I7:I12) -> 28635198 | J6: =SUM(J7:J12) -> 0 | K6: =SUM(K7:K12) -> 0 | L6: =SUM(L7:L12) -> 0
D7: I. Activo intangible.
D8: II. Activo Fijo.
D9: III. Inversiones inmobiliarias. | H9: 41230039 | I9: 26746776
D10: IV. Inversiones en empresas del grupo y asociadas a largo plazo
D11: V. Inversiones financieras a largo plazo.
D12: VI. Activos por impuesto diferido. | H12: 1053254 | I12: 1888422
D13: B - ACTIVO CORRIENTE /ACTIVO CIRCULANTE | H13: =SUM(H14:H16)+SUM(H20:H23) -> 15391418 | I13: =SUM(I14:I16)+SUM(I20:I23) -> 10583932 | J13: =SUM(J14:J16)+SUM(J20:J23) -> 0 | K13: =SUM(K14:K16)+SUM(K20:K23) -> 0 | L13: =SUM(L14:L16)+SUM(L20:L23) -> 0
D14: I. Activos no corrientes mantenidos para la venta.
D15: II. Inventarios.
D16: III. Cuentas a cobrar y Otros deudores comerciales | H16: =SUM(H17:H19) -> 11848913 | I16: =SUM(I17:I19) -> 6037708.3 | J16: =SUM(J17:J19) -> 0 | K16: =SUM(K17:K19) -> 0 | L16: =SUM(L17:L19) -> 0
D17: 1. Clientes por ventas y prestaciones de servicios | H17: 1706779.5 | I17: 184062.04
D18: 2. Accionistas (socios) por desembolsos exigidos | H18: =3091209.44+7050924 -> 10142133 | I18: =2907147.4+2946498.82 -> 5853646.2
D19: 3. Otros deudores.
D20: IV. Inversiones en empresas del grupo y asociadas a corto plazo
D21: V. Inversiones financieras a corto plazo.
D22: VI. Periodificaciones a corto plazo.
D23: VII. Efectivo y otros activos líquidos equivalentes. | H23: 3542505.5 | I23: 4546223.4
D24: Total Activo | H24: =+H6+H13 -> 57674711 | I24: =+I6+I13 -> 39219130 | J24: =+J6+J13 -> 0 | K24: =+K6+K13 -> 0 | L24: =+L6+L13 -> 0
C26: 2 | D26: PATRIMONIO NETO Y PASIVO | H26: =H5 -> 2023 | I26: =I5 -> 2022 | J26: =J5 -> 2021 | K26: =K5 -> 2020 | L26: =L5 -> 2019
D27: A) PATRIMONIO NETO | H27: =SUM(H32:H41)+H29 -> 24508343 | I27: =SUM(I32:I41)+I29 -> 12337278 | J27: =SUM(J32:J41)+J29 -> 0 | K27: =SUM(K32:K41)+K29 -> 0 | L27: =SUM(L32:L41)+L29 -> 0
D28: A-1) Fondos propios.
D29: I. Capital. | H29: =SUM(H30:H31) -> 100000 | I29: =SUM(I30:I31) -> 100000 | J29: =SUM(J30:J31) -> 0 | K29: =SUM(K30:K31) -> 0 | L29: =SUM(L30:L31) -> 0
D30: 1. Capital Suscrito y pagado | H30: 100000 | I30: 100000
D31: 2. (Capital no exigido).
D32: II. Prima de emisión.
D33: III. Reservas.
D34: IV. (Acciones y participaciones en patrimonio propias).
D35: V. Resultados de ejercicios anteriores. | H35: 24408343 | I35: 12237278
D36: VI. Otras aportaciones de socios.
D37: VII. Resultado del ejercicio.
D38: VIII. (Dividendo a cuenta).
D39: IX. Otros instrumentos de patrimonio neto.
D40: A-2) Ajustes por cambios de valor.
D41: A-3) Aportes, donaciones y legados recibidos.
D42: B) PASIVO NO CORRIENTE | H42: =SUM(H48:H50)+H44+H43 -> 15288419 | I42: =SUM(I48:I50)+I44+I43 -> 8535248 | J42: =SUM(J48:J50)+J44+J43 -> 0 | K42: =SUM(K48:K50)+K44+K43 -> 0 | L42: =SUM(L48:L50)+L44+L43 -> 0
D43: I. Provisiones a largo plazo.
...

Sheet Análisis
K2: ANÁLISIS de 4 PUNTOS | L2: =IF(F4=0,"","Referidos al Balance del") -> Referidos al Balance del | P2: =$F$4 -> 2023
E4: Balance a analizar | F4: 2023 | G4: =IF(F4=0,"◄ Pon el balance que quieres analizar (lista)","") | N4: =$E$20
J6: Análisis rápido de 4 puntos clave
C7: 1 | D7: ACTIVO
E8: ='Resumen Balance'!$E$8 -> TOTAL ACTIVO | F8: =SUMIF(añobalance,$F$4,'Resumen Balance'!I8:M8) -> 57674711
E9: ='Resumen Balance'!$E$9 -> Activo FIJO | F9: =SUMIF(añobalance,$F$4,'Resumen Balance'!I9:M9) -> 42283293 | G9: =IF(F$8=0,0,F9/F$8) -> 0.73313402 | J9: 1- LIQUIDEZ | N9: 3- ENDEUDAMIENTO
E10: ='Resumen Balance'!$E$11 -> Activo CIRCULANTE | F10: =SUMIF(añobalance,$F$4,'Resumen Balance'!I11:M11) -> 15391418 | G10: =IF(F$8=0,0,F10/F$8) -> 0.26686598 | J10: =IF(K10>0,"El circulante es","") -> El circulante es | K10: =$G$328 -> 0.86091634 | L10: =IF(K10>0,"veces el exigible a corto","") -> veces el exigible a corto | N10: =IF(O10>0,"Tiene un ratio","") -> Tiene un ratio | O10: =SUMIF('Resumen Ratios'!$I$6:$M$6,$F$4,'Resumen Ratios'!I22:M22) -> 1.3532685 | P10: =IF(O10>0,"(ratio ENDEUDAMIENTO)","") -> (ratio ENDEUDAMIENTO)
E11: ='Resumen Balance'!$E$12 -> Inventarios o existencias | F11: =SUMIF(añobalance,$F$4,'Resumen Balance'!I12:M12) -> 0 | G11: =IF(F$8=0,0,F11/F$8) -> 0 | J11: =IF(K10=0,0,IF(G328<=F331,G331,IF(G328>=F332,G332,G330))) -> Precaución, parece INSUFICIENTE | N11: =IF(O10=0,0,IF(G346>=F348,G348,IF(G346<=F349,G349,G347))) -> Precaución, parece EXCESIVO
E12: ='Resumen Balance'!$E$14 -> Realizable | F12: =SUMIF(añobalance,$F$4,'Resumen Balance'!I14:M14) -> 11848913 | G12: =IF(F$8=0,0,F12/F$8) -> 0.20544382 | J12: =IF(K12>0,"El R + D es","") -> El R + D es | K12: =$G$335 -> 0.86091634 | L12: =IF(K12>0,"veces las deudas a corto","") -> veces las deudas a corto | N12: =IF(N11=0,0,"Analizar ratios endeudamiento (ir a 20 Ratios)") -> Analizar ratios endeudamiento (ir a 20 Ratios)
E13: ='Resumen Balance'!$E$16 -> Disponible | F13: =SUMIF(añobalance,$F$4,'Resumen Balance'!I16:M16) -> 3542505.5 | G13: =IF(F$8=0,0,F13/F$8) -> 0.061422163 | J13: =IF(K12=0,0,IF(G335<=F338,G338,IF(G335>=F339,G339,G337))) -> Precaución, parece INSUFICIENTE
J14: =IF(J13=0,0,"Analizar los ratios de liquidez (hoja 20 ratios)") -> Analizar los ratios de liquidez (hoja 20 ratios)
C15: 2 | D15: Patrimonio Neto y PASIVO | E15: PAT. NETO y PASIVO
E16: ='Resumen Balance'!E21 -> TOTAL | F16: =SUMIF(añobalance,$F$4,'Resumen Balance'!I21:M21) -> 57674711 | J16: 2- CAPITALIZACIÓN | N16: 4- GARANTÍA
E17: ='Resumen Balance'!E22 -> PATRIMONIO NETO | F17: =SUMIF(añobalance,$F$4,'Resumen Balance'!I22:M22) -> 24508343 | G17: =IF(F$16=0,0,F17/F$16) -> 0.42494089 | J17: =IF(K17>0,"El P. Neto es el","") -> El P. Neto es el | K17: =$G$341 -> 0.42494089 | L17: =IF(K17>0,"del total (PN + PASIVO)","") -> del total (PN + PASIVO) | N17: =IF(O17>0,"Tiene un ratio","") -> Tiene un ratio | O17: =SUMIF('Resumen Ratios'!$I$6:$M$6,$F$4,'Resumen Ratios'!I8:M8) -> 1.2431279 | P17: =IF(O17>0,"(ratio GARANTÍA)","") -> (ratio GARANTÍA)
E18: ='Resumen Balance'!$E$26 -> Pasivo LARGO PLAZO | F18: =SUMIF(añobalance,$F$4,'Resumen Balance'!I26:M26) -> 15288419 | G18: =IF(F$16=0,0,F18/F$16) -> 0.26508011 | J18: =IF(K17=0,0,IF(G341<=F343,G343,IF(G341>=F344,G344,G342))) -> Parece CORRECTO. | N18: =IF(O17=0,0,IF(G351<=F353,G353,G352)) -> Precaución, parece INSUFICIENTE
E19: ='Resumen Balance'!$E$28 -> Pasivo CORTO PLAZO | F19: =SUMIF(añobalance,$F$4,'Resumen Balance'!I28:M28) -> 17877949 | G19: =IF(F$16=0,0,F19/F$16) -> 0.30997899 | J19: =IF(J18=0,0,"Analizar los ratios del resumen 1") -> Analizar los ratios del resumen 1 | N19: =IF(N18=0,0,"Analizar los ratios de garantía (hoja 20 Ratios)") -> Analizar los ratios de garantía (hoja 20 Ratios)
E20: =+H325
E324: parámetros de análisis - NO BORRAR
E325: cuadre del balance | F325: =ROUND(F8,0) -> 57674711 | G325: =ROUND(F16,0) -> 57674711 | H325: =IF(F325=G325,"","EL BALANCE NO CUADRA")
E327: comparación circulantes | G327: ratio
E328: activo | F328: =+F10 -> 15391418 | G328: =IF(F329=0,0,F328/F329) -> 0.86091634
E329: pasivo | F329: =+F19 -> 17877949
E330: RATIO CORRECTO: | F330: 2 | G330: Parece CORRECTO.
E331: ALARMA POR DEBAJO: | F331: 1.8 | G331: Precaución, parece INSUFICIENTE
E332: ALARMA POR ENCIMA: | F332: 2.2 | G332: Atención, parece EXCESIVO.
E334: análisis DISPONIBILIDAD | G334: ratio
E335: Realizable más disponible | F335: =+F12+F13 -> 15391418 | G335: =IF(F336=0,0,F335/F336) -> 0.86091634
E336: Exigible corto plazo | F336: =+F329 -> 17877949
E337: RATIO CORRECTO: | F337: 1 | G337: Parece CORRECTO.
E338: ALARMA POR DEBAJO: | F338: 0.95 | G338: Precaución, parece INSUFICIENTE
E339: ALARMA POR ENCIMA: | F339: 1.1 | G339: Atención, parece EXCESIVO.
G340: ratio
E341: análisis CAPITALIZACIÓN | G341: =$G$17 -> 0.42494089
E342: CORRECTO | F342: 40-50% | G342: Parece CORRECTO.
E343: ALARMA POR DEBAJO: | F343: 0.39 | G343: Precaución, parece INSUFICIENTE
E344: ALARMA POR ENCIMA: | F344: 0.51 | G344: Atención, parece EXCESIVO.
G345: ratio
E346: análisis ENDEUDAMIENTO | G346: =$O$10 -> 1.3532685
E347: CORRECTO | F347: 1 | G347: Parece CORRECTO.
E348: Demasiado endeudamiento | F348: 1.1 | G348: Precaución, parece EXCESIVO
...

Sheet Calc1
C1: =Datos!H5 -> 2023 | D1: =Datos!I5 -> 2022 | E1: =Datos!J5 -> 2021 | F1: =Datos!K5 -> 2020 | G1: =Datos!L5 -> 2019
B2: ACTIVO
B4: Inmovilizado | C4: =+Datos!H7+Datos!H8 -> 0 | D4: =+Datos!I7+Datos!I8 -> 0 | E4: =+Datos!J7+Datos!J8 -> 0 | F4: =+Datos!K7+Datos!K8 -> 0 | G4: =+Datos!L7+Datos!L8 -> 0
B5: Inversiones | C5: =+Datos!H9+Datos!H10+Datos!H11 -> 41230039 | D5: =+Datos!I9+Datos!I10+Datos!I11 -> 26746776 | E5: =+Datos!J9+Datos!J10+Datos!J11 -> 0 | F5: =+Datos!K9+Datos!K10+Datos!K11 -> 0 | G5: =+Datos!L9+Datos!L10+Datos!L11 -> 0
B6: Impuestos diferidos | C6: =+Datos!H12 -> 1053254 | D6: =+Datos!I12 -> 1888422 | E6: =+Datos!J12 -> 0 | F6: =+Datos!K12 -> 0 | G6: =+Datos!L12 -> 0
B7: ACTIVO FIJO | C7: =SUM(C4:C6) -> 42283293 | D7: =SUM(D4:D6) -> 28635198 | E7: =SUM(E4:E6) -> 0 | F7: =SUM(F4:F6) -> 0 | G7: =SUM(G4:G6) -> 0
B9: Inventarios | C9: =+Datos!H15+Datos!H14 -> 0 | D9: =+Datos!I15+Datos!I14 -> 0 | E9: =+Datos!J15+Datos!J14 -> 0 | F9: =+Datos!K15+Datos!K14 -> 0 | G9: =+Datos!L15+Datos!L14 -> 0
B10: Clientes | C10: =+Datos!H17 -> 1706779.5 | D10: =+Datos!I17 -> 184062.04 | E10: =+Datos!J17 -> 0 | F10: =+Datos!K17 -> 0 | G10: =+Datos!L17 -> 0
B11: Inversiones | C11: =+Datos!H18+Datos!H19 -> 10142133 | D11: =+Datos!I18+Datos!I19 -> 5853646.2 | E11: =+Datos!J18+Datos!J19 -> 0 | F11: =+Datos!K18+Datos!K19 -> 0 | G11: =+Datos!L18+Datos!L19 -> 0
B12: Otras cuentas | C12: =+Datos!H20+Datos!H21 -> 0 | D12: =+Datos!I20+Datos!I21 -> 0 | E12: =+Datos!J20+Datos!J21 -> 0 | F12: =+Datos!K20+Datos!K21 -> 0 | G12: =+Datos!L20+Datos!L21 -> 0
B13: Periodificaciones | C13: =+Datos!H22 -> 0 | D13: =+Datos!I22 -> 0 | E13: =+Datos!J22 -> 0 | F13: =+Datos!K22 -> 0 | G13: =+Datos!L22 -> 0
B14: Efectivo y otros liq. | C14: =+Datos!H23 -> 3542505.5 | D14: =+Datos!I23 -> 4546223.4 | E14: =+Datos!J23 -> 0 | F14: =+Datos!K23 -> 0 | G14: =+Datos!L23 -> 0
B15: CIRCULANTE | C15: =SUM(C9:C14) -> 15391418 | D15: =SUM(D9:D14) -> 10583932 | E15: =SUM(E9:E14) -> 0 | F15: =SUM(F9:F14) -> 0 | G15: =SUM(G9:G14) -> 0
B16: INVENTARIOS | C16: =+C9 -> 0 | D16: =+D9 -> 0 | E16: =+E9 -> 0 | F16: =+F9 -> 0 | G16: =+G9 -> 0
B17: REALIZABLE | C17: =+C13+C12+C10+C11 -> 11848913 | D17: =+D13+D12+D10+D11 -> 6037708.3 | E17: =+E13+E12+E10+E11 -> 0 | F17: =+F13+F12+F10+F11 -> 0 | G17: =+G13+G12+G10+G11 -> 0
B18: DISPONIBLE | C18: =+C14 -> 3542505.5 | D18: =+D14 -> 4546223.4 | E18: =+E14 -> 0 | F18: =+F14 -> 0 | G18: =+G14 -> 0
B19: TOTAL ACTIVO
C20: =+C15+C7 -> 57674711 | D20: =+D15+D7 -> 39219130 | E20: =+E15+E7 -> 0 | F20: =+F15+F7 -> 0 | G20: =+G15+G7 -> 0
B22: PATRIMONIO NETO
B23: Capital | C23: =+Datos!H30+Datos!H31 -> 100000 | D23: =+Datos!I30+Datos!I31 -> 100000 | E23: =+Datos!J30+Datos!J31 -> 0 | F23: =+Datos!K30+Datos!K31 -> 0 | G23: =+Datos!L30+Datos!L31 -> 0
B24: Otros FP | C24: =+Datos!H32+Datos!H33+Datos!H34+Datos!H35+Datos!H36+Datos!H37+Datos!H38+Datos!H39+Datos!H41 -> 24408343 | D24: =+Datos!I32+Datos!I33+Datos!I34+Datos!I35+Datos!I36+Datos!I37+Datos!I38+Datos!I39+Datos!I41 -> 12237278 | E24: =+Datos!J32+Datos!J33+Datos!J34+Datos!J35+Datos!J36+Datos!J37+Datos!J38+Datos!J39+Datos!J41 -> 0 | F24: =+Datos!K32+Datos!K33+Datos!K34+Datos!K35+Datos!K36+Datos!K37+Datos!K38+Datos!K39+Datos!K41 -> 0 | G24: =+Datos!L32+Datos!L33+Datos!L34+Datos!L35+Datos!L36+Datos!L37+Datos!L38+Datos!L39+Datos!L41 -> 0
B25: Ajustes | C25: =+Datos!H40 -> 0 | D25: =+Datos!I40 -> 0 | E25: =+Datos!J40 -> 0 | F25: =+Datos!K40 -> 0 | G25: =+Datos!L40 -> 0
B26: PAT. NETO | C26: =SUM(C23:C25) -> 24508343 | D26: =SUM(D23:D25) -> 12337278 | E26: =SUM(E23:E25) -> 0 | F26: =SUM(F23:F25) -> 0 | G26: =SUM(G23:G25) -> 0
B28: EXIGIBLE A LARGO PLAZO
B29: Provisiones | C29: =+Datos!H43 -> 0 | D29: =+Datos!I43 -> 0 | E29: =+Datos!J43 -> 0 | F29: =+Datos!K43 -> 0 | G29: =+Datos!L43 -> 0
B30: Préstamos largo pl. | C30: =+Datos!H45+Datos!H46 -> 15288419 | D30: =+Datos!I45+Datos!I46 -> 8535248 | E30: =+Datos!J45+Datos!J46 -> 0 | F30: =+Datos!K45+Datos!K46 -> 0 | G30: =+Datos!L45+Datos!L46 -> 0
B31: Otras deudas | C31: =+Datos!H47+Datos!H48 -> 0 | D31: =+Datos!I47+Datos!I48 -> 0 | E31: =+Datos!J47+Datos!J48 -> 0 | F31: =+Datos!K47+Datos!K48 -> 0 | G31: =+Datos!L47+Datos!L48 -> 0
B32: Peridificaciones-i.d. | C32: =+Datos!H49+Datos!H50 -> 0 | D32: =+Datos!I49+Datos!I50 -> 0 | E32: =+Datos!J49+Datos!J50 -> 0 | F32: =+Datos!K49+Datos!K50 -> 0 | G32: =+Datos!L49+Datos!L50 -> 0
B33: EXIGIBLE A LARGO PLAZO | C33: =SUM(C29:C32) -> 15288419 | D33: =SUM(D29:D32) -> 8535248 | E33: =SUM(E29:E32) -> 0 | F33: =SUM(F29:F32) -> 0 | G33: =SUM(G29:G32) -> 0
B35: EXIGIBLE A CORTO PLAZO
B36: Provisiones | C36: =+Datos!H53 -> 0 | D36: =+Datos!I53 -> 0 | E36: =+Datos!J53 -> 0 | F36: =+Datos!K53 -> 0 | G36: =+Datos!L53 -> 0
B37: Préstamos corto pl. | C37: =+Datos!H55+Datos!H56 -> 15147932 | D37: =+Datos!I55+Datos!I56 -> 15895199 | E37: =+Datos!J55+Datos!J56 -> 0 | F37: =+Datos!K55+Datos!K56 -> 0 | G37: =+Datos!L55+Datos!L56 -> 0
B38: Otras deudas corto | C38: =+Datos!H52+Datos!H57 -> 2730017 | D38: =+Datos!I52+Datos!I57 -> 2451406 | E38: =+Datos!J52+Datos!J57 -> 0 | F38: =+Datos!K52+Datos!K57 -> 0 | G38: =+Datos!L52+Datos!L57 -> 0
B39: Proveedores | C39: =+Datos!H60 -> 0 | D39: =+Datos!I60 -> 0 | E39: =+Datos!J60 -> 0 | F39: =+Datos!K60 -> 0 | G39: =+Datos!L60 -> 0
B40: Otras cuentas pagar | C40: =+Datos!H61+Datos!H58 -> 0 | D40: =+Datos!I61+Datos!I58 -> 0 | E40: =+Datos!J61+Datos!J58 -> 0 | F40: =+Datos!K61+Datos!K58 -> 0 | G40: =+Datos!L61+Datos!L58 -> 0
B41: Periodificaciones | C41: =+Datos!H62 -> 0 | D41: =+Datos!I62 -> 0 | E41: =+Datos!J62 -> 0 | F41: =+Datos!K62 -> 0 | G41: =+Datos!L62 -> 0
B42: EXIGIBLE A CORTO PLAZO | C42: =SUM(C36:C41) -> 17877949 | D42: =SUM(D36:D41) -> 18346605 | E42: =SUM(E36:E41) -> 0 | F42: =SUM(F36:F41) -> 0 | G42: =SUM(G36:G41) -> 0
B44: TOTAL PASIVOS | C44: =+C42+C33 -> 33166368 | D44: =+D42+D33 -> 26881853 | E44: =+E42+E33 -> 0 | F44: =+F42+F33 -> 0 | G44: =+G42+G33 -> 0
B45: TOT PN+ PASIVO
B46: TOT PN+ PASIVO | C46: =+C44+C26 -> 57674711 | D46: =+D44+D26 -> 39219131 | E46: =+E44+E26 -> 0 | F46: =+F44+F26 -> 0 | G46: =+G44+G26 -> 0
...

Sheet Hoja1
B5: Para gráfico balance - NO BORRAR NI OCULTAR
C6: Activo | D6: F.Maniobra | E6: PN y Pasivo | G6: activo circulante total | I6: =Análisis!$F$10 -> 15391418
B7: Circulante | C7: =I6/1000 -> 15391.418 | D7: =E7 -> 17877.949 | E7: =I7/1000 -> 17877.949 | G7: pasivo circulante total | I7: =Análisis!$F$19 -> 17877949
B8: Fijo | C8: =I8/1000 -> 42283.293 | E8: =I9/1000 -> 39796.762 | G8: ACTIVO FIJO Total | I8: =Análisis!$F$9 -> 42283293
B9: Fondo Maniobra | D9: =+C7-E7 -> -2486.5305 | G9: Pat. Neto + Pasivo LP (Fijo) | I9: =Análisis!F17+Análisis!F18 -> 39796762

Sheet 20Ratios
C2: ANÁLISIS 20 RATIOS
D4: Período | E4: =Datos!H5 -> 2023 | F4: =Datos!I5 -> 2022 | G4: =Datos!J5 -> 2021 | H4: =Datos!K5 -> 2020 | I4: =Datos!L5 -> 2019 | L4: Criterio general para el análisis (tomarlo con precaución)
C6: 1 | D6: RENTABILIDAD
D7: Rentabilidad Financiera | E7: =Calc1!C80 -> 0 | F7: =Calc1!D80 -> 0 | G7: =Calc1!E80 -> 0 | H7: =Calc1!F80 -> 0 | I7: =Calc1!G80 -> 0 | L7: % Rentabilidad neta sobre recursos propios (Patrimonio Neto).
D8: Rentabilidad Económica | E8: =Calc1!C81 -> 0 | F8: =Calc1!D81 -> 0 | G8: =Calc1!E81 -> 0 | H8: =Calc1!F81 -> 0 | I8: =Calc1!G81 -> 0 | L8: % Rentabilidad neta sobre total activos.
D9: Rentabilidad del Capital | E9: =Calc1!C82 -> 0 | F9: =Calc1!D82 -> 0 | G9: =Calc1!E82 -> 0 | H9: =Calc1!F82 -> 0 | I9: =Calc1!G82 -> 0 | L9: % Rentabilidad neta sobre el capital social.
D10: Rentabilidad de las Ventas | E10: =Calc1!C83 -> 0 | F10: =Calc1!D83 -> 0 | G10: =Calc1!E83 -> 0 | H10: =Calc1!F83 -> 0 | I10: =Calc1!G83 -> 0 | L10: % Rentabilidad neta sobre total ventas.
C12: 2 | D12: CAPITAL DE TRABAJO
D13: Capital de Trabajo | E13: =Calc1!C54 -> -2486530.5 | F13: =Calc1!D54 -> -7762673.4 | G13: =Calc1!E54 -> 0 | H13: =Calc1!F54 -> 0 | I13: =Calc1!G54 -> 0 | L13: Diferencia entre el circulante y el exigible al corto. Siempre debe ser positivo.
D14: Ratio Capital de trabajo | E14: =Calc1!C60 -> -0.13908366 | F14: =Calc1!D60 -> -0.42311225 | G14: =Calc1!E60 -> 0 | H14: =Calc1!F60 -> 0 | I14: =Calc1!G60 -> 0 | L14: Proporción de CdT respecto al exigible al corto. En general 0,5 es aceptable.
D15: Ratio CdT en días | E15: =Calc1!C61 -> 0 | F15: =Calc1!D61 -> 0 | G15: =Calc1!E61 -> 0 | H15: =Calc1!F61 -> 0 | I15: =Calc1!G61 -> 0 | L15: Días que tarda en regenerarse el CdT con las ventas. Cuanto menos mejor.
C17: 3 | D17: LIQUIDEZ
D18: Solvencia o Liquidez | E18: =Calc1!C56 -> 0.86091634 | F18: =Calc1!D56 -> 0.57688775 | G18: =Calc1!E56 -> 0 | H18: =Calc1!F56 -> 0 | I18: =Calc1!G56 -> 0 | L18: Compara circulante con exigible a corto. En general: lejos de 1 (cercano a 2).
D19: Tesorería (Prueba Acida) | E19: =Calc1!C57 -> 0.86091634 | F19: =Calc1!D57 -> 0.57688775 | G19: =Calc1!E57 -> 0 | H19: =Calc1!F57 -> 0 | I19: =Calc1!G57 -> 0 | L19: Compara el disponible mas el realizable con deuda a Corto. ideal cerca 1.
D20: Disponibilidad | E20: =Calc1!C58 -> 0.19814944 | F20: =Calc1!D58 -> 0.24779644 | G20: =Calc1!E58 -> 0 | H20: =Calc1!F58 -> 0 | I20: =Calc1!G58 -> 0 | L20: Compara el disponible con las deudas a corto. En general: En torno a 0,3.
C22: 4 | D22: ENDEUDAMIENTO y autonomía
D23: Endeudamiento | E23: =Calc1!C63 -> 1.3532685 | F23: =Calc1!D63 -> 2.1789128 | G23: =Calc1!E63 -> 0 | H23: =Calc1!F63 -> 0 | I23: =Calc1!G63 -> 0 | L23: Compara las deudas con los capitales propios. En general: No mayor que 1.
D24: Endeud. Corto Plazo | E24: =Calc1!C64 -> 0.72946379 | F24: =Calc1!D64 -> 1.487087 | G24: =Calc1!E64 -> 0 | H24: =Calc1!F64 -> 0 | I24: =Calc1!G64 -> 0 | L24: Compara las deudas a corto con los capitales propios. Cuanto menor, mejor.
D25: Autonomía | E25: =Calc1!C65 -> 0.73895168 | F25: =Calc1!D65 -> 0.45894447 | G25: =Calc1!E65 -> 0 | H25: =Calc1!F65 -> 0 | I25: =Calc1!G65 -> 0 | L25: Similar al de endeudamiento, compara capitales propios con deudas totales
C27: 5 | D27: GARANTÍA y estabilidad
D28: Garantía | E28: =Calc1!C67 -> 1.2431279 | F28: =Calc1!D67 -> 0.99497516 | G28: =Calc1!E67 -> 0 | H28: =Calc1!F67 -> 0 | I28: =Calc1!G67 -> 0 | L28: Compara el activo real con el total de las deudas. En general 1,5, no menor.
D29: Consistencia | E29: =Calc1!C68 -> 2.7657074 | F29: =Calc1!D68 -> 3.3549345 | G29: =Calc1!E68 -> 0 | H29: =Calc1!F68 -> 0 | I29: =Calc1!G68 -> 0 | L29: Compara el activo fijo con las deudas a largo plazo. En general 2.
D30: Estabilidad | E30: =Calc1!C69 -> 1.0624807 | F30: =Calc1!D69 -> 1.3719086 | G30: =Calc1!E69 -> 0 | H30: =Calc1!F69 -> 0 | I30: =Calc1!G69 -> 0 | L30: Compara el activo fijo con los recursos permanentes. En general: menor de 1.
C32: 6 | D32: ROTACIÓN ACTIVO, INVENTARIO y días pago/cobro
D33: Rotación activo | E33: =Calc1!C88 -> 0 | F33: =Calc1!D88 -> 0 | G33: =Calc1!E88 -> 0 | H33: =Calc1!F88 -> 0 | I33: =Calc1!G88 -> 0 | L33: Compara el activo con las ventas. Cuanto más alto mejor.
D34: Días de inventario | E34: =Calc1!C89 -> 0 | F34: =Calc1!D89 -> 0 | G34: =Calc1!E89 -> 0 | H34: =Calc1!F89 -> 0 | I34: =Calc1!G89 -> 0 | L34: Días que se tarda en vender los inventarios. Cuanto menos, mejor.
D35: Días cobro clientes | E35: =Calc1!C87 -> 0 | F35: =Calc1!D87 -> 0 | G35: =Calc1!E87 -> 0 | H35: =Calc1!F87 -> 0 | I35: =Calc1!G87 -> 0 | L35: Días que se tarda en cobrar a los clientes. Cuanto menos, mejor.
D36: Días pago proveedores | E36: =Calc1!C86 -> 0 | F36: =Calc1!D86 -> 0 | G36: =Calc1!E86 -> 0 | H36: =Calc1!F86 -> 0 | I36: =Calc1!G86 -> 0 | L36: Días que se tarda en pagar a los proveedores. Cuanto más mejor.

Sheet Resumen Balance
D2: Análisis BÁSICO de los BALANCES
F4: =Datos!E3 -> 0 | G4: =Datos!F3 -> 0 | H4: Análisis de los balances
E6: ACTIVO | I6: =Datos!H5 -> 2023 | J6: =Datos!I5 -> 2022 | K6: =Datos!J5 -> 2021 | L6: =Datos!K5 -> 2020 | M6: =Datos!L5 -> 2019
E8: TOTAL ACTIVO | I8: =Calc1!C20 -> 57674711 | J8: =Calc1!D20 -> 39219130 | K8: =Calc1!E20 -> 0 | L8: =Calc1!F20 -> 0 | M8: =Calc1!G20 -> 0
E9: Activo FIJO | I9: =Calc1!C7 -> 42283293 | J9: =Calc1!D7 -> 28635198 | K9: =Calc1!E7 -> 0 | L9: =Calc1!F7 -> 0 | M9: =Calc1!G7 -> 0
E10: % vs. Total | I10: =IF(I$8=0,"",I9/I$8) -> 0.73313402 | J10: =IF(J$8=0,"",J9/J$8) -> 0.73013344 | K10: =IF(K$8=0,"",K9/K$8) | L10: =IF(L$8=0,"",L9/L$8) | M10: =IF(M$8=0,"",M9/M$8)
E11: Activo CIRCULANTE | I11: =Calc1!C15 -> 15391418 | J11: =Calc1!D15 -> 10583932 | K11: =Calc1!E15 -> 0 | L11: =Calc1!F15 -> 0 | M11: =Calc1!G15 -> 0
E12: Inventarios o existencias | I12: =Calc1!C16 -> 0 | J12: =Calc1!D16 -> 0 | K12: =Calc1!E16 -> 0 | L12: =Calc1!F16 -> 0 | M12: =Calc1!G16 -> 0
E13: % vs. Total | I13: =IF(I$8=0,"",I12/I$8) -> 0 | J13: =IF(J$8=0,"",J12/J$8) -> 0 | K13: =IF(K$8=0,"",K12/K$8) | L13: =IF(L$8=0,"",L12/L$8) | M13: =IF(M$8=0,"",M12/M$8)
E14: Realizable | I14: =Calc1!C17 -> 11848913 | J14: =Calc1!D17 -> 6037708.3 | K14: =Calc1!E17 -> 0 | L14: =Calc1!F17 -> 0 | M14: =Calc1!G17 -> 0
E15: % vs. Total | I15: =IF(I$8=0,"",I14/I$8) -> 0.20544382 | J15: =IF(J$8=0,"",J14/J$8) -> 0.15394804 | K15: =IF(K$8=0,"",K14/K$8) | L15: =IF(L$8=0,"",L14/L$8) | M15: =IF(M$8=0,"",M14/M$8)
E16: Disponible | I16: =Calc1!C18 -> 3542505.5 | J16: =Calc1!D18 -> 4546223.4 | K16: =Calc1!E18 -> 0 | L16: =Calc1!F18 -> 0 | M16: =Calc1!G18 -> 0
E17: % vs. Total | I17: =IF(I$8=0,"",I16/I$8) -> 0.061422163 | J17: =IF(J$8=0,"",J16/J$8) -> 0.11591852 | K17: =IF(K$8=0,"",K16/K$8) | L17: =IF(L$8=0,"",L16/L$8) | M17: =IF(M$8=0,"",M16/M$8)
E19: Patrimonio NETO y PASIVO | I19: =I6 -> 2023 | J19: =J6 -> 2022 | K19: =K6 -> 2021 | L19: =L6 -> 2020 | M19: =M6 -> 2019
E21: TOTAL | I21: =Calc1!C46 -> 57674711 | J21: =Calc1!D46 -> 39219131 | K21: =Calc1!E46 -> 0 | L21: =Calc1!F46 -> 0 | M21: =Calc1!G46 -> 0
E22: PATRIMONIO NETO | I22: =Calc1!C26 -> 24508343 | J22: =Calc1!D26 -> 12337278 | K22: =Calc1!E26 -> 0 | L22: =Calc1!F26 -> 0 | M22: =Calc1!G26 -> 0
E23: % vs. Total | I23: =IF(I$21=0,"",I22/I$21) -> 0.42494089 | J23: =IF(J$21=0,"",J22/J$21) -> 0.31457295 | K23: =IF(K$21=0,"",K22/K$21) | L23: =IF(L$21=0,"",L22/L$21) | M23: =IF(M$21=0,"",M22/M$21)
E24: CAPITAL | I24: =Calc1!C23 -> 100000 | J24: =Calc1!D23 -> 100000 | K24: =Calc1!E23 -> 0 | L24: =Calc1!F23 -> 0 | M24: =Calc1!G23 -> 0
E25: % vs. Total | I25: =IF(I$21=0,"",I24/I$21) -> 0.0017338622 | J25: =IF(J$21=0,"",J24/J$21) -> 0.002549776 | K25: =IF(K$21=0,"",K24/K$21) | L25: =IF(L$21=0,"",L24/L$21) | M25: =IF(M$21=0,"",M24/M$21)
E26: Pasivo LARGO PLAZO | I26: =Calc1!C33 -> 15288419 | J26: =Calc1!D33 -> 8535248 | K26: =Calc1!E33 -> 0 | L26: =Calc1!F33 -> 0 | M26: =Calc1!G33 -> 0
E27: % vs. Total | I27: =IF(I$21=0,"",I26/I$21) -> 0.26508011 | J27: =IF(J$21=0,"",J26/J$21) -> 0.21762971 | K27: =IF(K$21=0,"",K26/K$21) | L27: =IF(L$21=0,"",L26/L$21) | M27: =IF(M$21=0,"",M26/M$21)
E28: Pasivo CORTO PLAZO | I28: =Calc1!C42 -> 17877949 | J28: =Calc1!D42 -> 18346605 | K28: =Calc1!E42 -> 0 | L28: =Calc1!F42 -> 0 | M28: =Calc1!G42 -> 0
E29: % vs. Total | I29: =IF(I$21=0,"",I28/I$21) -> 0.30997899 | J29: =IF(J$21=0,"",J28/J$21) -> 0.46779734 | K29: =IF(K$21=0,"",K28/K$21) | L29: =IF(L$21=0,"",L28/L$21) | M29: =IF(M$21=0,"",M28/M$21)
E32: VARIACIÓN ANUAL | J32: =J6 -> 2022 | K32: =K6 -> 2021 | L32: =L6 -> 2020 | M32: =M6 -> 2019
E34: ACTIVO | J34: =IF(J8=0,0,IF(I$8=0,0,(J8/I$8)-100%)) -> -0.31999435 | K34: =IF(K8=0,0,IF(J$8=0,0,(K8/J$8)-100%)) -> 0 | L34: =IF(L8=0,0,IF(K$8=0,0,(L8/K$8)-100%)) -> 0 | M34: =IF(M8=0,0,IF(L$8=0,0,(M8/L$8)-100%)) -> 0
E35: Activo Fijo | J35: =IF(J9=0,0,IF(I9=0,0,(J9/I9)-100%)) -> -0.32277749 | K35: =IF(K9=0,0,IF(J9=0,0,(K9/J9)-100%)) -> 0 | L35: =IF(L9=0,0,IF(K9=0,0,(L9/K9)-100%)) -> 0 | M35: =IF(M9=0,0,IF(L9=0,0,(M9/L9)-100%)) -> 0
E36: Activo Circulante | J36: =IF(J11=0,0,IF(I11=0,0,(J11/I11)-100%)) -> -0.31234852 | K36: =IF(K11=0,0,IF(J11=0,0,(K11/J11)-100%)) -> 0 | L36: =IF(L11=0,0,IF(K11=0,0,(L11/K11)-100%)) -> 0 | M36: =IF(M11=0,0,IF(L11=0,0,(M11/L11)-100%)) -> 0
E37: P.N. y PASIVO | J37: =IF(J21=0,0,IF(I21=0,0,(J21/I21)-100%)) -> -0.31999433 | K37: =IF(K21=0,0,IF(J21=0,0,(K21/J21)-100%)) -> 0 | L37: =IF(L21=0,0,IF(K21=0,0,(L21/K21)-100%)) -> 0 | M37: =IF(M21=0,0,IF(L21=0,0,(M21/L21)-100%)) -> 0
E38: Patrimonio Neto | J38: =IF(J22=0,0,IF(I22=0,0,(J22/I22)-100%)) -> -0.49660906 | K38: =IF(K22=0,0,IF(J22=0,0,(K22/J22)-100%)) -> 0 | L38: =IF(L22=0,0,IF(K22=0,0,(L22/K22)-100%)) -> 0 | M38: =IF(M22=0,0,IF(L22=0,0,(M22/L22)-100%)) -> 0
E39: Pasivo Largo Plazo | J39: =IF(J26=0,0,IF(I26=0,0,(J26/I26)-100%)) -> -0.44171807 | K39: =IF(K26=0,0,IF(J26=0,0,(K26/J26)-100%)) -> 0 | L39: =IF(L26=0,0,IF(K26=0,0,(L26/K26)-100%)) -> 0 | M39: =IF(M26=0,0,IF(L26=0,0,(M26/L26)-100%)) -> 0
E40: Pasivo Corto Plazo | J40: =IF(J28=0,0,IF(I28=0,0,(J28/I28)-100%)) -> 0.026214193 | K40: =IF(K28=0,0,IF(J28=0,0,(K28/J28)-100%)) -> 0 | L40: =IF(L28=0,0,IF(K28=0,0,(L28/K28)-100%)) -> 0 | M40: =IF(M28=0,0,IF(L28=0,0,(M28/L28)-100%)) -> 0

Sheet Resumen Ratios
D2: Análisis de RATIOS
E4: ='INICIO '!C3 -> Santroni Parson | F4: ='Resumen Balance'!F4 -> 0 | G4: ='Resumen Balance'!G4 -> 0 | I4: Ratios para el análisis
E6: ='20Ratios'!$D$27 -> GARANTÍA y estabilidad | I6: ='Resumen Balance'!I6 -> 2023 | J6: ='Resumen Balance'!J6 -> 2022 | K6: ='Resumen Balance'!K6 -> 2021 | L6: ='Resumen Balance'!L6 -> 2020 | M6: ='Resumen Balance'!M6 -> 2019
E8: ='20Ratios'!D28 -> Garantía | I8: ='20Ratios'!E28 -> 1.2431279 | J8: ='20Ratios'!F28 -> 0.99497516 | K8: ='20Ratios'!G28 -> 0 | L8: ='20Ratios'!H28 -> 0 | M8: ='20Ratios'!I28 -> 0
E9: ='20Ratios'!D29 -> Consistencia | I9: ='20Ratios'!E29 -> 2.7657074 | J9: ='20Ratios'!F29 -> 3.3549345 | K9: ='20Ratios'!G29 -> 0 | L9: ='20Ratios'!H29 -> 0 | M9: ='20Ratios'!I29 -> 0
E10: ='20Ratios'!D30 -> Estabilidad | I10: ='20Ratios'!E30 -> 1.0624807 | J10: ='20Ratios'!F30 -> 1.3719086 | K10: ='20Ratios'!G30 -> 0 | L10: ='20Ratios'!H30 -> 0 | M10: ='20Ratios'!I30 -> 0
E13: LIQUIDEZ | I13: =I6 -> 2023 | J13: =J6 -> 2022 | K13: =K6 -> 2021 | L13: =L6 -> 2020 | M13: =M6 -> 2019
E15: ='20Ratios'!D18 -> Solvencia o Liquidez | I15: ='20Ratios'!E18 -> 0.86091634 | J15: ='20Ratios'!F18 -> 0.57688775 | K15: ='20Ratios'!G18 -> 0 | L15: ='20Ratios'!H18 -> 0 | M15: ='20Ratios'!I18 -> 0
E16: ='20Ratios'!D19 -> Tesorería (Prueba Acida) | I16: ='20Ratios'!E19 -> 0.86091634 | J16: ='20Ratios'!F19 -> 0.57688775 | K16: ='20Ratios'!G19 -> 0 | L16: ='20Ratios'!H19 -> 0 | M16: ='20Ratios'!I19 -> 0
E17: ='20Ratios'!D20 -> Disponibilidad | I17: ='20Ratios'!E20 -> 0.19814944 | J17: ='20Ratios'!F20 -> 0.24779644 | K17: ='20Ratios'!G20 -> 0 | L17: ='20Ratios'!H20 -> 0 | M17: ='20Ratios'!I20 -> 0
E20: ENDEUDAMIENTO | I20: =I13 -> 2023 | J20: =J13 -> 2022 | K20: =K13 -> 2021 | L20: =L13 -> 2020 | M20: =M13 -> 2019
E22: ='20Ratios'!D23 -> Endeudamiento | I22: ='20Ratios'!E23 -> 1.3532685 | J22: ='20Ratios'!F23 -> 2.1789128 | K22: ='20Ratios'!G23 -> 0 | L22: ='20Ratios'!H23 -> 0 | M22: ='20Ratios'!I23 -> 0
E23: ='20Ratios'!D24 -> Endeud. Corto Plazo | I23: ='20Ratios'!E24 -> 0.72946379 | J23: ='20Ratios'!F24 -> 1.487087 | K23: ='20Ratios'!G24 -> 0 | L23: ='20Ratios'!H24 -> 0 | M23: ='20Ratios'!I24 -> 0
E26: RENTABILIDAD | I26: =I13 -> 2023 | J26: =J13 -> 2022 | K26: =K13 -> 2021 | L26: =L13 -> 2020 | M26: =M13 -> 2019
E28: ='20Ratios'!D7 -> Rentabilidad Financiera | I28: ='20Ratios'!E7 -> 0 | J28: ='20Ratios'!F7 -> 0 | K28: ='20Ratios'!G7 -> 0 | L28: ='20Ratios'!H7 -> 0 | M28: ='20Ratios'!I7 -> 0
E29: ='20Ratios'!D8 -> Rentabilidad Económica | I29: ='20Ratios'!E8 -> 0 | J29: ='20Ratios'!F8 -> 0 | K29: ='20Ratios'!G8 -> 0 | L29: ='20Ratios'!H8 -> 0 | M29: ='20Ratios'!I8 -> 0
E30: ='20Ratios'!D9 -> Rentabilidad del Capital | I30: ='20Ratios'!E9 -> 0 | J30: ='20Ratios'!F9 -> 0 | K30: ='20Ratios'!G9 -> 0 | L30: ='20Ratios'!H9 -> 0 | M30: ='20Ratios'!I9 -> 0
E31: ='20Ratios'!D10 -> Rentabilidad de las Ventas | I31: ='20Ratios'!E10 -> 0 | J31: ='20Ratios'!F10 -> 0 | K31: ='20Ratios'!G10 -> 0 | L31: ='20Ratios'!H10 -> 0 | M31: ='20Ratios'!I10 -> 0
E34: CAPITAL DE TRABAJO | I34: =I26 -> 2023 | J34: =J26 -> 2022 | K34: =K26 -> 2021 | L34: =L26 -> 2020 | M34: =M26 -> 2019
E36: ='20Ratios'!D13 -> Capital de Trabajo | I36: ='20Ratios'!E13 -> -2486530.5 | J36: ='20Ratios'!F13 -> -7762673.4 | K36: ='20Ratios'!G13 -> 0 | L36: ='20Ratios'!H13 -> 0 | M36: ='20Ratios'!I13 -> 0
E37: ='20Ratios'!D14 -> Ratio Capital de trabajo | I37: ='20Ratios'!E14 -> -0.13908366 | J37: ='20Ratios'!F14 -> -0.42311225 | K37: ='20Ratios'!G14 -> 0 | L37: ='20Ratios'!H14 -> 0 | M37: ='20Ratios'!I14 -> 0
E38: ='20Ratios'!D15 -> Ratio CdT en días | I38: ='20Ratios'!E15 -> 0 | J38: ='20Ratios'!F15 -> 0 | K38: ='20Ratios'!G15 -> 0 | L38: ='20Ratios'!H15 -> 0 | M38: ='20Ratios'!I15 -> 0
E41: ROTACIONES | I41: =I26 -> 2023 | J41: =J26 -> 2022 | K41: =K26 -> 2021 | L41: =L26 -> 2020 | M41: =M26 -> 2019
E43: ='20Ratios'!D33 -> Rotación activo | I43: ='20Ratios'!E33 -> 0 | J43: ='20Ratios'!F33 -> 0 | K43: ='20Ratios'!G33 -> 0 | L43: ='20Ratios'!H33 -> 0 | M43: ='20Ratios'!I33 -> 0
E44: ='20Ratios'!D34 -> Días de inventario | I44: ='20Ratios'!E34 -> 0 | J44: ='20Ratios'!F34 -> 0 | K44: ='20Ratios'!G34 -> 0 | L44: ='20Ratios'!H34 -> 0 | M44: ='20Ratios'!I34 -> 0
E45: ='20Ratios'!D35 -> Días cobro clientes | I45: ='20Ratios'!E35 -> 0 | J45: ='20Ratios'!F35 -> 0 | K45: ='20Ratios'!G35 -> 0 | L45: ='20Ratios'!H35 -> 0 | M45: ='20Ratios'!I35 -> 0
E46: ='20Ratios'!D36 -> Días pago proveedores | I46: ='20Ratios'!E36 -> 0 | J46: ='20Ratios'!F36 -> 0 | K46: ='20Ratios'!G36 -> 0 | L46: ='20Ratios'!H36 -> 0 | M46: ='20Ratios'!I36 -> 0
